Package: chihaya Version: 1.10.0 Command: /home/biocbuild/bbs-3.22-bioc/R/bin/R CMD INSTALL chihaya StartedAt: 2025-11-06 15:16:33 -0500 (Thu, 06 Nov 2025) EndedAt: 2025-11-06 15:17:08 -0500 (Thu, 06 Nov 2025) EllapsedTime: 35.6 seconds RetCode: 0 Status: OK