Package: chihaya Version: 1.10.0 Command: /home/biocbuild/bbs-3.22-bioc/R/bin/R CMD build --keep-empty-dirs --no-resave-data --md5 chihaya StartedAt: 2025-11-06 16:48:39 -0500 (Thu, 06 Nov 2025) EndedAt: 2025-11-06 16:49:22 -0500 (Thu, 06 Nov 2025) EllapsedTime: 43.0 seconds RetCode: 0 Status: OK PackageFile: chihaya_1.10.0.tar.gz PackageFileSize: 260.9 KiB