Package: chevreulShiny Version: 1.2.0 Command: /home/biocbuild/bbs-3.22-bioc/R/bin/R CMD INSTALL chevreulShiny StartedAt: 2025-11-14 16:01:32 -0500 (Fri, 14 Nov 2025) EndedAt: 2025-11-14 16:02:32 -0500 (Fri, 14 Nov 2025) EllapsedTime: 59.6 seconds RetCode: 0 Status: OK