Package: chevreulShiny Version: 1.2.0 Command: /home/biocbuild/bbs-3.22-bioc/R/bin/R CMD build --keep-empty-dirs --no-resave-data --md5 chevreulShiny StartedAt: 2025-11-14 16:50:36 -0500 (Fri, 14 Nov 2025) EndedAt: 2025-11-14 16:51:54 -0500 (Fri, 14 Nov 2025) EllapsedTime: 78.1 seconds RetCode: 0 Status: OK PackageFile: chevreulShiny_1.2.0.tar.gz PackageFileSize: 7.473 MiB