Package: chevreulShiny Version: 1.2.0 Command: /Library/Frameworks/R.framework/Resources/bin/R CMD build --keep-empty-dirs --no-resave-data chevreulShiny StartedAt: 2025-11-10 15:54:49 -0500 (Mon, 10 Nov 2025) EndedAt: 2025-11-10 15:55:23 -0500 (Mon, 10 Nov 2025) EllapsedTime: 34.4 seconds RetCode: 0 Status: OK PackageFile: chevreulShiny_1.2.0.tar.gz PackageFileSize: 7.471 MiB