Package: chevreulShiny Version: 1.2.0 Command: rm -rf chevreulShiny.buildbin-libdir && mkdir chevreulShiny.buildbin-libdir && /Users/biocbuild/BBS/utils/build-universal.sh chevreulShiny_1.2.0.tar.gz /Library/Frameworks/R.framework/Resources/bin/R chevreulShiny.buildbin-libdir StartedAt: 2025-11-10 23:14:25 -0500 (Mon, 10 Nov 2025) EndedAt: 2025-11-10 23:14:49 -0500 (Mon, 10 Nov 2025) EllapsedTime: 24.4 seconds RetCode: 0 Status: OK PackageFile: chevreulShiny_1.2.0.tgz PackageFileSize: 6.378 MiB