Package: chevreulProcess Version: 1.0.0 Command: /home/biocbuild/bbs-3.21-bioc/R/bin/R CMD INSTALL chevreulProcess StartedAt: 2025-10-12 15:52:35 -0400 (Sun, 12 Oct 2025) EndedAt: 2025-10-12 15:53:26 -0400 (Sun, 12 Oct 2025) EllapsedTime: 51.6 seconds RetCode: 0 Status: OK