Package: chevreulProcess Version: 1.0.0 Command: /home/biocbuild/bbs-3.21-bioc/R/bin/R CMD build --keep-empty-dirs --no-resave-data chevreulProcess StartedAt: 2025-10-12 16:42:13 -0400 (Sun, 12 Oct 2025) EndedAt: 2025-10-12 16:43:24 -0400 (Sun, 12 Oct 2025) EllapsedTime: 71.1 seconds RetCode: 0 Status: OK PackageFile: chevreulProcess_1.0.0.tar.gz PackageFileSize: 4.754 MiB