Package: chevreulProcess Version: 1.0.0 Command: rm -rf chevreulProcess.buildbin-libdir && mkdir chevreulProcess.buildbin-libdir && /Users/biocbuild/BBS/utils/build-universal.sh chevreulProcess_1.0.0.tar.gz /Library/Frameworks/R.framework/Resources/bin/R chevreulProcess.buildbin-libdir StartedAt: 2025-04-21 22:29:24 -0400 (Mon, 21 Apr 2025) EndedAt: 2025-04-21 22:29:47 -0400 (Mon, 21 Apr 2025) EllapsedTime: 23.4 seconds RetCode: 0 Status: OK PackageFile: chevreulProcess_1.0.0.tgz PackageFileSize: 4.865 MiB