Package: chevreulProcess Version: 1.0.0 Command: /Library/Frameworks/R.framework/Resources/bin/R CMD INSTALL chevreulProcess StartedAt: 2025-10-13 18:15:13 -0400 (Mon, 13 Oct 2025) EndedAt: 2025-10-13 18:16:15 -0400 (Mon, 13 Oct 2025) EllapsedTime: 61.5 seconds RetCode: 0 Status: OK