Package: chevreulProcess Version: 1.0.0 Command: rm -rf chevreulProcess.buildbin-libdir && mkdir chevreulProcess.buildbin-libdir && /Users/biocbuild/BBS/utils/build-universal.sh chevreulProcess_1.0.0.tar.gz /Library/Frameworks/R.framework/Resources/bin/R chevreulProcess.buildbin-libdir StartedAt: 2025-10-15 17:47:50 -0400 (Wed, 15 Oct 2025) EndedAt: 2025-10-15 17:48:59 -0400 (Wed, 15 Oct 2025) EllapsedTime: 69.0 seconds RetCode: 0 Status: OK PackageFile: chevreulProcess_1.0.0.tgz PackageFileSize: 4.862 MiB