Package: chevreulPlot Version: 1.2.0 Command: /home/biocbuild/bbs-3.22-bioc/R/bin/R CMD INSTALL chevreulPlot StartedAt: 2025-11-11 16:02:30 -0500 (Tue, 11 Nov 2025) EndedAt: 2025-11-11 16:03:27 -0500 (Tue, 11 Nov 2025) EllapsedTime: 56.5 seconds RetCode: 0 Status: OK