Package: chevreulPlot Version: 1.2.0 Command: /home/biocbuild/bbs-3.22-bioc/R/bin/R CMD check --install=check:chevreulPlot.install-out.txt --library=/home/biocbuild/bbs-3.22-bioc/R/site-library --timings chevreulPlot_1.2.0.tar.gz StartedAt: 2025-11-13 22:06:18 -0500 (Thu, 13 Nov 2025) EndedAt: 2025-11-13 22:13:46 -0500 (Thu, 13 Nov 2025) EllapsedTime: 448.5 seconds RetCode: 0 Status: OK CheckDir: chevreulPlot.Rcheck Warnings: 0