Package: chevreulPlot Version: 1.0.0 Command: /home/biocbuild/bbs-3.21-bioc/R/bin/R CMD INSTALL chevreulPlot StartedAt: 2025-10-15 15:56:36 -0400 (Wed, 15 Oct 2025) EndedAt: 2025-10-15 15:57:29 -0400 (Wed, 15 Oct 2025) EllapsedTime: 52.9 seconds RetCode: 0 Status: OK