Package: chevreulPlot Version: 1.0.0 Command: /home/biocbuild/bbs-3.21-bioc/R/bin/R CMD build --keep-empty-dirs --no-resave-data chevreulPlot StartedAt: 2025-10-15 16:41:59 -0400 (Wed, 15 Oct 2025) EndedAt: 2025-10-15 16:43:18 -0400 (Wed, 15 Oct 2025) EllapsedTime: 79.1 seconds RetCode: 0 Status: OK PackageFile: chevreulPlot_1.0.0.tar.gz PackageFileSize: 12.84 MiB