Package: chevreulPlot Version: 1.2.0 Command: /Library/Frameworks/R.framework/Resources/bin/R CMD INSTALL chevreulPlot StartedAt: 2025-11-03 15:55:11 -0500 (Mon, 03 Nov 2025) EndedAt: 2025-11-03 15:56:22 -0500 (Mon, 03 Nov 2025) EllapsedTime: 70.9 seconds RetCode: 0 Status: OK