Package: chevreulPlot Version: 1.0.0 Command: /home/biocbuild/R/R/bin/R CMD INSTALL chevreulPlot StartedAt: 2025-10-09 21:16:56 -0000 (Thu, 09 Oct 2025) EndedAt: 2025-10-09 21:18:09 -0000 (Thu, 09 Oct 2025) EllapsedTime: 73.6 seconds RetCode: 0 Status: OK