Package: chevreulPlot Version: 1.0.0 Command: /home/biocbuild/R/R/bin/R CMD build --keep-empty-dirs --no-resave-data chevreulPlot StartedAt: 2025-10-06 23:32:46 -0000 (Mon, 06 Oct 2025) EndedAt: 2025-10-06 23:34:34 -0000 (Mon, 06 Oct 2025) EllapsedTime: 108.0 seconds RetCode: 0 Status: OK PackageFile: chevreulPlot_1.0.0.tar.gz PackageFileSize: 12.96 MiB