Package: chevreulPlot Version: 1.0.0 Command: rm -rf chevreulPlot.buildbin-libdir && mkdir chevreulPlot.buildbin-libdir && /Users/biocbuild/BBS/utils/build-universal.sh chevreulPlot_1.0.0.tar.gz /Library/Frameworks/R.framework/Resources/bin/R chevreulPlot.buildbin-libdir StartedAt: 2025-04-21 22:29:24 -0400 (Mon, 21 Apr 2025) EndedAt: 2025-04-21 22:29:48 -0400 (Mon, 21 Apr 2025) EllapsedTime: 24.4 seconds RetCode: 0 Status: OK PackageFile: chevreulPlot_1.0.0.tgz PackageFileSize: 12.98 MiB