Package: chevreulPlot Version: 1.2.0 Command: /Library/Frameworks/R.framework/Resources/bin/R CMD INSTALL chevreulPlot StartedAt: 2025-11-20 19:09:39 -0500 (Thu, 20 Nov 2025) EndedAt: 2025-11-20 19:10:44 -0500 (Thu, 20 Nov 2025) EllapsedTime: 64.8 seconds RetCode: 0 Status: OK