Package: cghMCR Version: 1.68.0 Command: /home/biocbuild/bbs-3.22-bioc/R/bin/R CMD INSTALL cghMCR StartedAt: 2025-11-11 15:33:09 -0500 (Tue, 11 Nov 2025) EndedAt: 2025-11-11 15:33:29 -0500 (Tue, 11 Nov 2025) EllapsedTime: 19.7 seconds RetCode: 0 Status: OK