Package: cghMCR Version: 1.68.0 Command: /home/biocbuild/bbs-3.22-bioc/R/bin/R CMD build --keep-empty-dirs --no-resave-data --md5 cghMCR StartedAt: 2025-11-11 16:51:16 -0500 (Tue, 11 Nov 2025) EndedAt: 2025-11-11 16:52:22 -0500 (Tue, 11 Nov 2025) EllapsedTime: 66.0 seconds RetCode: 0 Status: OK PackageFile: cghMCR_1.68.0.tar.gz PackageFileSize: 36.1 MiB