Package: cfdnakit Version: 1.8.0 Command: /home/biocbuild/bbs-3.22-bioc/R/bin/R CMD build --keep-empty-dirs --no-resave-data --md5 cfdnakit StartedAt: 2025-10-31 16:56:29 -0400 (Fri, 31 Oct 2025) EndedAt: 2025-10-31 16:57:17 -0400 (Fri, 31 Oct 2025) EllapsedTime: 48.0 seconds RetCode: 0 Status: OK PackageFile: cfdnakit_1.8.0.tar.gz PackageFileSize: 3.087 MiB