Package: cfTools Version: 1.10.0 Command: /home/biocbuild/R/R/bin/R CMD INSTALL cfTools StartedAt: 2025-11-13 21:34:36 -0000 (Thu, 13 Nov 2025) EndedAt: 2025-11-13 21:35:44 -0000 (Thu, 13 Nov 2025) EllapsedTime: 67.7 seconds RetCode: 0 Status: OK