Package: cfTools Version: 1.8.0 Command: /home/biocbuild/bbs-3.21-bioc/R/bin/R CMD INSTALL cfTools StartedAt: 2025-10-05 15:26:34 -0400 (Sun, 05 Oct 2025) EndedAt: 2025-10-05 15:27:17 -0400 (Sun, 05 Oct 2025) EllapsedTime: 43.4 seconds RetCode: 0 Status: OK