Package: cfTools Version: 1.8.0 Command: /home/biocbuild/bbs-3.21-bioc/R/bin/R CMD build --keep-empty-dirs --no-resave-data cfTools StartedAt: 2025-10-05 16:41:10 -0400 (Sun, 05 Oct 2025) EndedAt: 2025-10-05 16:42:39 -0400 (Sun, 05 Oct 2025) EllapsedTime: 89.1 seconds RetCode: 0 Status: OK PackageFile: cfTools_1.8.0.tar.gz PackageFileSize: 2.202 MiB