Package: cfTools Version: 1.8.0 Command: /Library/Frameworks/R.framework/Resources/bin/R CMD INSTALL cfTools StartedAt: 2025-10-13 15:49:58 -0400 (Mon, 13 Oct 2025) EndedAt: 2025-10-13 15:51:27 -0400 (Mon, 13 Oct 2025) EllapsedTime: 89.0 seconds RetCode: 0 Status: OK