Package: cfTools Version: 1.8.0 Command: /Library/Frameworks/R.framework/Resources/bin/R CMD INSTALL cfTools StartedAt: 2025-10-02 16:02:34 -0400 (Thu, 02 Oct 2025) EndedAt: 2025-10-02 16:03:18 -0400 (Thu, 02 Oct 2025) EllapsedTime: 43.8 seconds RetCode: 0 Status: OK