Package: cfTools Version: 1.8.0 Command: rm -rf cfTools.buildbin-libdir && mkdir cfTools.buildbin-libdir && /Users/biocbuild/BBS/utils/build-universal.sh cfTools_1.8.0.tar.gz /Library/Frameworks/R.framework/Resources/bin/R cfTools.buildbin-libdir StartedAt: 2025-10-04 17:16:58 -0400 (Sat, 04 Oct 2025) EndedAt: 2025-10-04 17:17:49 -0400 (Sat, 04 Oct 2025) EllapsedTime: 51.0 seconds RetCode: 0 Status: OK PackageFile: cfTools_1.8.0.tgz PackageFileSize: 1.328 MiB