Package: cfDNAPro Version: 1.16.0 Command: /home/biocbuild/R/R/bin/R CMD INSTALL cfDNAPro StartedAt: 2025-11-13 21:43:25 -0000 (Thu, 13 Nov 2025) EndedAt: 2025-11-13 21:43:40 -0000 (Thu, 13 Nov 2025) EllapsedTime: 14.8 seconds RetCode: 1 Status: ERROR