Package: cfDNAPro Version: 1.16.0 Command: /home/biocbuild/R/R/bin/R CMD build --keep-empty-dirs --no-resave-data cfDNAPro StartedAt: 2025-11-14 00:27:25 -0000 (Fri, 14 Nov 2025) EndedAt: 2025-11-14 00:27:39 -0000 (Fri, 14 Nov 2025) EllapsedTime: 14.0 seconds RetCode: 1 Status: ERROR PackageFile: None PackageFileSize: NA