Package: cfDNAPro Version: 1.16.0 Command: /home/biocbuild/bbs-3.22-bioc/R/bin/R CMD check --install=check:cfDNAPro.install-out.txt --library=/home/biocbuild/bbs-3.22-bioc/R/site-library --timings cfDNAPro_1.16.0.tar.gz StartedAt: 2025-11-11 22:05:21 -0500 (Tue, 11 Nov 2025) EndedAt: 2025-11-11 22:09:58 -0500 (Tue, 11 Nov 2025) EllapsedTime: 277.4 seconds RetCode: 0 Status: WARNINGS CheckDir: cfDNAPro.Rcheck Warnings: 1