Package: cfDNAPro Version: 1.16.0 Command: /home/biocbuild/bbs-3.22-bioc/R/bin/R CMD build --keep-empty-dirs --no-resave-data --md5 cfDNAPro StartedAt: 2025-11-11 16:50:47 -0500 (Tue, 11 Nov 2025) EndedAt: 2025-11-11 16:51:47 -0500 (Tue, 11 Nov 2025) EllapsedTime: 60.0 seconds RetCode: 0 Status: OK PackageFile: cfDNAPro_1.16.0.tar.gz PackageFileSize: 1.39 MiB