Package: cfDNAPro Version: 1.14.0 Command: /home/biocbuild/bbs-3.21-bioc/R/bin/R CMD INSTALL cfDNAPro StartedAt: 2025-10-05 15:34:22 -0400 (Sun, 05 Oct 2025) EndedAt: 2025-10-05 15:34:57 -0400 (Sun, 05 Oct 2025) EllapsedTime: 34.8 seconds RetCode: 0 Status: OK