Package: cfDNAPro Version: 1.14.0 Command: /home/biocbuild/bbs-3.21-bioc/R/bin/R CMD build --keep-empty-dirs --no-resave-data cfDNAPro StartedAt: 2025-10-05 16:41:08 -0400 (Sun, 05 Oct 2025) EndedAt: 2025-10-05 16:42:08 -0400 (Sun, 05 Oct 2025) EllapsedTime: 60.1 seconds RetCode: 0 Status: OK PackageFile: cfDNAPro_1.14.0.tar.gz PackageFileSize: 1.388 MiB