Package: cfDNAPro Version: 1.14.0 Command: /home/biocbuild/R/R/bin/R CMD build --keep-empty-dirs --no-resave-data cfDNAPro StartedAt: 2025-09-25 23:37:07 -0000 (Thu, 25 Sep 2025) EndedAt: 2025-09-25 23:38:25 -0000 (Thu, 25 Sep 2025) EllapsedTime: 78.0 seconds RetCode: 0 Status: OK PackageFile: cfDNAPro_1.14.0.tar.gz PackageFileSize: 1.416 MiB