Package: cfDNAPro Version: 1.14.0 Command: /Library/Frameworks/R.framework/Resources/bin/R CMD build --keep-empty-dirs --no-resave-data cfDNAPro StartedAt: 2025-04-21 15:52:09 -0400 (Mon, 21 Apr 2025) EndedAt: 2025-04-21 15:52:33 -0400 (Mon, 21 Apr 2025) EllapsedTime: 24.3 seconds RetCode: 0 Status: OK PackageFile: cfDNAPro_1.14.0.tar.gz PackageFileSize: 1.434 MiB