Package: cfDNAPro Version: 1.14.0 Command: /Library/Frameworks/R.framework/Resources/bin/R CMD INSTALL cfDNAPro StartedAt: 2025-10-02 17:05:14 -0400 (Thu, 02 Oct 2025) EndedAt: 2025-10-02 17:05:55 -0400 (Thu, 02 Oct 2025) EllapsedTime: 41.3 seconds RetCode: 0 Status: OK