Package: cfDNAPro Version: 1.14.0 Command: /Library/Frameworks/R.framework/Resources/bin/R CMD build --keep-empty-dirs --no-resave-data cfDNAPro StartedAt: 2025-10-02 20:58:07 -0400 (Thu, 02 Oct 2025) EndedAt: 2025-10-02 20:59:24 -0400 (Thu, 02 Oct 2025) EllapsedTime: 77.6 seconds RetCode: 0 Status: OK PackageFile: cfDNAPro_1.14.0.tar.gz PackageFileSize: 1.431 MiB