Package: cfDNAPro Version: 1.14.0 Command: rm -rf cfDNAPro.buildbin-libdir && mkdir cfDNAPro.buildbin-libdir && /Users/biocbuild/BBS/utils/build-universal.sh cfDNAPro_1.14.0.tar.gz /Library/Frameworks/R.framework/Resources/bin/R cfDNAPro.buildbin-libdir StartedAt: 2025-10-04 17:16:52 -0400 (Sat, 04 Oct 2025) EndedAt: 2025-10-04 17:17:38 -0400 (Sat, 04 Oct 2025) EllapsedTime: 45.4 seconds RetCode: 0 Status: OK PackageFile: cfDNAPro_1.14.0.tgz PackageFileSize: 1.415 MiB