Package: censcyt Version: 1.18.0 Command: /home/biocbuild/bbs-3.22-bioc/R/bin/R CMD INSTALL censcyt StartedAt: 2025-11-13 15:23:57 -0500 (Thu, 13 Nov 2025) EndedAt: 2025-11-13 15:24:30 -0500 (Thu, 13 Nov 2025) EllapsedTime: 33.4 seconds RetCode: 0 Status: OK