Package: censcyt Version: 1.18.0 Command: /home/biocbuild/bbs-3.22-bioc/R/bin/R CMD build --keep-empty-dirs --no-resave-data --md5 censcyt StartedAt: 2025-11-11 16:49:25 -0500 (Tue, 11 Nov 2025) EndedAt: 2025-11-11 16:50:46 -0500 (Tue, 11 Nov 2025) EllapsedTime: 81.0 seconds RetCode: 0 Status: OK PackageFile: censcyt_1.18.0.tar.gz PackageFileSize: 523 KiB