Package: censcyt Version: 1.18.0 Command: /Library/Frameworks/R.framework/Resources/bin/R CMD build --keep-empty-dirs --no-resave-data censcyt StartedAt: 2025-11-03 16:24:12 -0500 (Mon, 03 Nov 2025) EndedAt: 2025-11-03 16:25:43 -0500 (Mon, 03 Nov 2025) EllapsedTime: 91.0 seconds RetCode: 0 Status: OK PackageFile: censcyt_1.18.0.tar.gz PackageFileSize: 510.4 KiB