Package: censcyt Version: 1.18.0 Command: rm -rf censcyt.buildbin-libdir && mkdir censcyt.buildbin-libdir && /Users/biocbuild/BBS/utils/build-universal.sh censcyt_1.18.0.tar.gz /Library/Frameworks/R.framework/Resources/bin/R censcyt.buildbin-libdir StartedAt: 2025-11-04 01:31:49 -0500 (Tue, 04 Nov 2025) EndedAt: 2025-11-04 01:32:36 -0500 (Tue, 04 Nov 2025) EllapsedTime: 47.4 seconds RetCode: 0 Status: OK PackageFile: censcyt_1.18.0.tgz PackageFileSize: 607.9 KiB