Package: censcyt Version: 1.16.0 Command: /home/biocbuild/R/R/bin/R CMD INSTALL censcyt StartedAt: 2025-10-13 20:36:14 -0000 (Mon, 13 Oct 2025) EndedAt: 2025-10-13 20:37:01 -0000 (Mon, 13 Oct 2025) EllapsedTime: 46.5 seconds RetCode: 0 Status: OK