Package: censcyt Version: 1.16.0 Command: /home/biocbuild/R/R/bin/R CMD build --keep-empty-dirs --no-resave-data censcyt StartedAt: 2025-10-13 23:29:55 -0000 (Mon, 13 Oct 2025) EndedAt: 2025-10-13 23:31:57 -0000 (Mon, 13 Oct 2025) EllapsedTime: 122.0 seconds RetCode: 0 Status: OK PackageFile: censcyt_1.16.0.tar.gz PackageFileSize: 524.1 KiB