Package: cellxgenedp Version: 1.14.0 Command: /home/biocbuild/bbs-3.22-bioc/R/bin/R CMD check --install=check:cellxgenedp.install-out.txt --library=/home/biocbuild/bbs-3.22-bioc/R/site-library --timings cellxgenedp_1.14.0.tar.gz StartedAt: 2025-11-13 22:02:41 -0500 (Thu, 13 Nov 2025) EndedAt: 2025-11-13 22:06:18 -0500 (Thu, 13 Nov 2025) EllapsedTime: 217.3 seconds RetCode: 0 Status: OK CheckDir: cellxgenedp.Rcheck Warnings: 0