Package: cellxgenedp Version: 1.14.0 Command: /Library/Frameworks/R.framework/Resources/bin/R CMD INSTALL cellxgenedp StartedAt: 2025-10-30 15:10:04 -0400 (Thu, 30 Oct 2025) EndedAt: 2025-10-30 15:10:32 -0400 (Thu, 30 Oct 2025) EllapsedTime: 27.3 seconds RetCode: 0 Status: OK