Package: cellxgenedp Version: 1.12.1 Command: /home/biocbuild/R/R/bin/R CMD build --keep-empty-dirs --no-resave-data cellxgenedp StartedAt: 2025-10-02 23:31:26 -0000 (Thu, 02 Oct 2025) EndedAt: 2025-10-02 23:33:41 -0000 (Thu, 02 Oct 2025) EllapsedTime: 135.0 seconds RetCode: 0 Status: OK PackageFile: cellxgenedp_1.12.1.tar.gz PackageFileSize: 521.7 KiB