Package: cellxgenedp Version: 1.12.1 Command: /Library/Frameworks/R.framework/Resources/bin/R CMD INSTALL cellxgenedp StartedAt: 2025-10-13 15:24:35 -0400 (Mon, 13 Oct 2025) EndedAt: 2025-10-13 15:24:41 -0400 (Mon, 13 Oct 2025) EllapsedTime: 5.8 seconds RetCode: 0 Status: OK